BEGIN:VCALENDAR
VERSION:2.0
PRODID:-//CSIME - ECPv5.10.0//NONSGML v1.0//EN
CALSCALE:GREGORIAN
METHOD:PUBLISH
X-WR-CALNAME:CSIME
X-ORIGINAL-URL:https://csime.org
X-WR-CALDESC:Events for CSIME
BEGIN:VTIMEZONE
TZID:UTC
BEGIN:STANDARD
TZOFFSETFROM:+0000
TZOFFSETTO:+0000
TZNAME:UTC
DTSTART:20140101T000000
END:STANDARD
END:VTIMEZONE
BEGIN:VEVENT
DTSTART;VALUE=DATE:20140716
DTEND;VALUE=DATE:20140717
DTSTAMP:20260425T133821
CREATED:20191027T144702Z
LAST-MODIFIED:20191027T162821Z
UID:1258-1405468800-1405555199@csime.org
SUMMARY:Interfaith Council of Greater Sacramento Event
DESCRIPTION:[vc_row][vc_column][vc_column_text]On May 15\, 2014\, Mr. Mohammad Mohanna\, President of CSIME West Coast Division\, sponsored the annual Power of One event for the Interfaith Council of Greater Sacramento. At the event\, interfaith groups across Northern California came together to recognize the power of interfaith dialogue and understanding. Pastor Rick Cole of the Capital Christian Center was honored at the event for his work in organizing a Winter Sanctuary Staging Ground at facilities donated by Mohanna\, for the homeless guests at the Loaves and Fishes Campus in Sacramento. In addition\, Women’s Empowerment\, a non-profit co-founded by Mohanna\, was honored at the event and praised for its work in helping homeless women get the necessary job training and skills to end the vicious cycle of homelessness. The Power of One event recognized the importance of bringing interfaith leaders of various backgrounds together to advocate for sustainable solutions for the less fortunate.[/vc_column_text][/vc_column][/vc_row]
URL:https://csime.org/event/interfaith-council-of-greater-sacramento-event/
CATEGORIES:2014 EVENTS & UPDATES
END:VEVENT
END:VCALENDAR