BEGIN:VCALENDAR
VERSION:2.0
PRODID:-//CSIME - ECPv5.10.0//NONSGML v1.0//EN
CALSCALE:GREGORIAN
METHOD:PUBLISH
X-WR-CALNAME:CSIME
X-ORIGINAL-URL:https://csime.org
X-WR-CALDESC:Events for CSIME
BEGIN:VTIMEZONE
TZID:UTC
BEGIN:STANDARD
TZOFFSETFROM:+0000
TZOFFSETTO:+0000
TZNAME:UTC
DTSTART:20140101T000000
END:STANDARD
END:VTIMEZONE
BEGIN:VEVENT
DTSTART;VALUE=DATE:20140813
DTEND;VALUE=DATE:20140814
DTSTAMP:20260425T121236
CREATED:20191027T144812Z
LAST-MODIFIED:20191027T162814Z
UID:1262-1407888000-1407974399@csime.org
SUMMARY:CSIME hosts delegation of top Iranian law students to U.S.
DESCRIPTION:[vc_row][vc_column][vc_column_text]CSIME organized and hosted a delegation of top Iranian law students from Shahid Beheshti University to attend the Philip C. Jessup Moot Court Competition\, the world’s largest moot court in International Law\, in Washington DC from April 6-12\, 2014. The team competed amongst top law students from countries all around the world including Russia\, Singapore\, Puerto Rico and the Baltic Region. CSIME arranged various meetings for these top students in Washington DC and New York\, including a visit to the United Nations. During this trip\, CSIME provided opportunities for the law students to familiarize themselves with the US legal system and explore international opportunities and career prospects. The success of this delegation paves the way for future top law students of Iran to engage in further international competitions and establish long-lasting connections with colleagues from around the world. CSIME is dedicated to ensuring opportunities for top Iranian students to travel to the U.S. and engage in dialogue with their peers in fields of interest\, building crucial relationships between the future leaders of Iran and the U.S.[/vc_column_text][vc_row_inner][vc_column_inner width="1/4"][vc_single_image image="916" img_size="full"][/vc_column_inner][vc_column_inner width="1/4"][vc_single_image image="917" img_size="full"][/vc_column_inner][vc_column_inner width="1/4"][vc_single_image image="918" img_size="full"][/vc_column_inner][vc_column_inner width="1/4"][vc_single_image image="923" img_size="full"][/vc_column_inner][/vc_row_inner][/vc_column][/vc_row]
URL:https://csime.org/event/csime-hosts-delegation-of-top-iranian-law-students-to-u-s/
CATEGORIES:2014 EVENTS & UPDATES
END:VEVENT
END:VCALENDAR