BEGIN:VCALENDAR
VERSION:2.0
PRODID:-//CSIME - ECPv5.10.0//NONSGML v1.0//EN
CALSCALE:GREGORIAN
METHOD:PUBLISH
X-WR-CALNAME:CSIME
X-ORIGINAL-URL:https://csime.org
X-WR-CALDESC:Events for CSIME
BEGIN:VTIMEZONE
TZID:UTC
BEGIN:STANDARD
TZOFFSETFROM:+0000
TZOFFSETTO:+0000
TZNAME:UTC
DTSTART:20150101T000000
END:STANDARD
END:VTIMEZONE
BEGIN:VEVENT
DTSTART;VALUE=DATE:20150310
DTEND;VALUE=DATE:20150311
DTSTAMP:20260421T085112
CREATED:20191028T134138Z
LAST-MODIFIED:20191028T134611Z
UID:1339-1425945600-1426031999@csime.org
SUMMARY:Atlantic Council\, Albright-Hadley Iftar Reception\, Washington\, DC
DESCRIPTION:[vc_row][vc_column][vc_column_text]On July 9th&nbsp;following the invitation of Atlantic Council Dr. Iravani\, attended a second series of “public hearings” convened by Co-Chairs\, Secretary Albright and Stephen Hadley. The hearing was on the role religion does or does not play in the current disorder in the region: the civil wars\, the phenomena of radicalization\, and increased sectarian tensions. The event had the theme “What’s Religion Got to Do with It?” The point was to explore to what extent religion or politics (or something else entirely) is the main driver – and\, to illuminate how religion is often instrumentalized by extremists for political purposes.\nThere was an Iftar reception immediately afterward and Dr. Iravani talked about the significance of Ramadan and the Iftar to the Washington policy crowd.\nIravani said that In Islam\, the way He sees and understands it: all the rituals and laws and regulations related to them are means to an end and a goal. That goal is to become a better person and become closer to God in way that he or she will manifest Absolut Good.\nHe also talked about ritual and social dimension of fasting and at the end prayed for peace and prosperity in the world in particular for a good agreement based on respect\, dignity and trust between Iran and the USA.\n[/vc_column_text][/vc_column][/vc_row]
URL:https://csime.org/event/atlantic-council-albright-hadley-iftar-reception-washington-dc/
CATEGORIES:2015 EVENTS & UPDATES
END:VEVENT
END:VCALENDAR